BEGIN:VCALENDAR
VERSION:2.0
PRODID:-//ChamberMaster//Event Calendar 2.0//EN
METHOD:PUBLISH
X-PUBLISHED-TTL:P3D
REFRESH-INTERVAL:P3D
CALSCALE:GREGORIAN
BEGIN:VEVENT
DTSTART:20120920T220000Z
DTEND:20120920T223000Z
X-MICROSOFT-CDO-ALLDAYEVENT:FALSE
SUMMARY:Shelby Oral Facial Surgery Ribbon Cutting Ceremony
DESCRIPTION:Please join Joshua E. Everts\, DDS\, MD and N. Ryan Livingston\, DMD\, MD and the Shelby County Chamber of Commerce for the Ribbon Cutting Ceremony for the new Shelby Oral Facial Surgery clinic.
X-ALT-DESC;FMTTYPE=text/html:Please join Joshua E. Everts\, DDS\, MD and N. Ryan Livingston\, DMD\, MD and the Shelby County Chamber of Commerce for the Ribbon Cutting Ceremony for the new Shelby Oral Facial Surgery clinic.&nbsp\;
LOCATION:Shelby Oral Facial Surgery 420 1st Street North Alabaster\, AL 35007
UID:e.145.4355
SEQUENCE:3
DTSTAMP:20260425T011322Z
URL:https://business.shelbychamber.org/events/details/shelby-oral-facial-surgery-ribbon-cutting-ceremony-09-20-2012-4355
END:VEVENT

END:VCALENDAR
