BEGIN:VCALENDAR
VERSION:2.0
PRODID:-//ChamberMaster//Event Calendar 2.0//EN
METHOD:PUBLISH
X-PUBLISHED-TTL:P3D
REFRESH-INTERVAL:P3D
CALSCALE:GREGORIAN
BEGIN:VEVENT
DTSTART:20140530T220000Z
DTEND:20140531T230000Z
X-MICROSOFT-CDO-ALLDAYEVENT:FALSE
SUMMARY:Shelby Show & Go
DESCRIPTION:Join us for Shelby County's Show & Go antique and classic car event. Benefiting SafeHouse of Shelby County and its domestic and sexual violence response and prevention programs\, Show & Go will display classic cars for all to enjoy at venues throughout Shelby County\, Alabama.
X-ALT-DESC;FMTTYPE=text/html:Join us for Shelby County&#39\;s Show &amp\; Go antique and classic car event. Benefiting SafeHouse of Shelby County and its domestic and sexual violence response and prevention programs\, Show &amp\; Go will display classic cars for all to enjoy at venues throughout Shelby County\, Alabama.
LOCATION:Downtown Columbiana\, Alabaster Promenade\, Hoover Metropolitan Stadium
UID:e.145.5100
SEQUENCE:3
DTSTAMP:20260423T165008Z
URL:https://business.shelbychamber.org/events/details/shelby-show-go-05-30-2014-5100
END:VEVENT

END:VCALENDAR
