BEGIN:VCALENDAR
VERSION:2.0
PRODID:-//ChamberMaster//Event Calendar 2.0//EN
METHOD:PUBLISH
X-PUBLISHED-TTL:P3D
REFRESH-INTERVAL:P3D
CALSCALE:GREGORIAN
BEGIN:VEVENT
DTSTART:20131107T210000Z
DTEND:20131107T230000Z
X-MICROSOFT-CDO-ALLDAYEVENT:FALSE
SUMMARY:Shred Day
DESCRIPTION:Karen Ross Miller AllState Agency is hosting Shred Day with Gone For Good Secure Document Destruction\, both chamber members. Individuals can bring their secure information and have it shredded by a NAID certified vendor at no cost while getting a quote from AllState.
X-ALT-DESC;FMTTYPE=text/html:Karen Ross Miller AllState Agency is hosting Shred Day with Gone For Good Secure Document Destruction\, both chamber members. Individuals can bring their secure information and have it shredded by a NAID certified vendor at no cost while getting a quote from AllState.
LOCATION:AllState-119 Ace Place Helena\, AL 35080 (behind Zaxby's)
UID:e.145.4789
SEQUENCE:3
DTSTAMP:20260424T020532Z
URL:https://business.shelbychamber.org/events/details/shred-day-11-07-2013-4789
END:VEVENT

END:VCALENDAR
