BEGIN:VCALENDAR
VERSION:2.0
PRODID:-//ChamberMaster//Event Calendar 2.0//EN
METHOD:PUBLISH
X-PUBLISHED-TTL:P3D
REFRESH-INTERVAL:P3D
CALSCALE:GREGORIAN
BEGIN:VEVENT
DTSTART:20140426T130000Z
DTEND:20140426T170000Z
X-MICROSOFT-CDO-ALLDAYEVENT:FALSE
SUMMARY:Shred Your Documents
DESCRIPTION:Have you finished your taxes? Now clean out your files! Gain peace of mind by knowing that your important documents will not end up in the wrong hands. Protect yourself from identity theft. This free event held at Pelham Library will provide city residents with a safe and secure resource to shred their confidential personal and business documents. During the event\, anyone can bring their documents in and have them shredded by an on-site\, certified Cintas employee. From drop-off to destruction\, all documents will be constantly monitored and protected. No reservation required. There is a six box limit per individual. No CD's/DVDs. Call the library at 620-6418 for more information.
X-ALT-DESC;FMTTYPE=text/html:Have you finished your taxes? Now clean out your files! Gain peace of mind by knowing that your important documents will not end up in the wrong hands. Protect yourself from identity theft. This free event held at Pelham Library will provide city residents with a safe and secure resource to shred their confidential personal and business documents. During the event\, anyone can bring their documents in and have them shredded by an on-site\, certified Cintas employee. From drop-off to destruction\, all documents will be constantly monitored and protected. No reservation required. There is a six box limit per individual. No CD&#39\;s/DVDs. Call the library at 620-6418 for more information.
LOCATION:Pelham Public Library 3160 Pelham Parkway Pelham\, Alabama 35124
UID:e.145.5116
SEQUENCE:3
DTSTAMP:20260423T195902Z
URL:https://business.shelbychamber.org/events/details/shred-your-documents-04-26-2014-5116
END:VEVENT

END:VCALENDAR
