BEGIN:VCALENDAR
VERSION:2.0
PRODID:-//ChamberMaster//Event Calendar 2.0//EN
METHOD:PUBLISH
X-PUBLISHED-TTL:P3D
REFRESH-INTERVAL:P3D
CALSCALE:GREGORIAN
BEGIN:VEVENT
DTSTART:20141011T150000Z
DTEND:20141012T030000Z
X-MICROSOFT-CDO-ALLDAYEVENT:FALSE
SUMMARY:ShrimpFest Needs Volunteers
DESCRIPTION:Oak Mountain State Park is hosting the final stop of Bob Baumhower's ShrimpFest on October 11th. This event is highlighting Alabama State Parks and Alabama Gulf Seafood. We are in need of volunteers for this event. There are several shifts that can be worked.
X-ALT-DESC;FMTTYPE=text/html:Oak Mountain State Park is hosting the final stop of Bob Baumhower&#39\;s ShrimpFest on October 11th. This event is highlighting Alabama State Parks and Alabama Gulf Seafood. We are in need of volunteers for this event. There are several shifts that can be worked.
LOCATION:Oak Mountain State Park (Terrace Drive)
UID:e.145.6221
SEQUENCE:3
DTSTAMP:20260423T091353Z
URL:https://business.shelbychamber.org/events/details/shrimpfest-needs-volunteers-10-11-2014-6221
END:VEVENT

END:VCALENDAR
