BEGIN:VCALENDAR
VERSION:2.0
PRODID:-//ChamberMaster//Event Calendar 2.0//EN
METHOD:PUBLISH
X-PUBLISHED-TTL:P3D
REFRESH-INTERVAL:P3D
CALSCALE:GREGORIAN
BEGIN:VEVENT
DTSTART:20110630T230000Z
DTEND:20110701T010000Z
X-MICROSOFT-CDO-ALLDAYEVENT:FALSE
SUMMARY:Silver Oak Wine Dinner at The Wynfrey Hotel
DESCRIPTION:Join Tom Johnson Silver Oak & Twomey Wine Ambassador\, Andy Peters General Manager Wynfrey Hotel and Starla Andrews Head Coach Shula's Steak House on Thursday June 30th for a night of great food and outstanding wine.\n\n\n\nThe Wynfrey Hotel and Shula's Steak House is proud to host a night of outstanding food and wine. Savor a custom menu created by the Wynfrey culinary team Executive Chef Rick and Sous Chef Mark.  The dinner is available on a limited basis so make your reservations now.\n\n\n\nThe Silver Oak Wine Dinner is offered for $125 per person plus tax and gratuity. Reservations are required and menu is subject to market availability and changes. For reservation or more information on this special dinner promotion\, call Shula's Steak House Birmingham at 205-444-5750.
X-ALT-DESC;FMTTYPE=text/html:Join Tom Johnson Silver Oak &amp\; Twomey Wine Ambassador\, Andy Peters General Manager Wynfrey Hotel and Starla Andrews Head Coach Shula&rsquo\;s Steak House on Thursday June 30th for a night of great food and outstanding wine.<br />\n<br />\nThe Wynfrey Hotel and Shula&rsquo\;s Steak House is proud to host a night of outstanding food and wine. Savor a custom menu created by the Wynfrey culinary team Executive Chef Rick and Sous Chef Mark.&nbsp\; The dinner is available on a limited basis so make your reservations now.<br />\n<br />\nThe Silver Oak Wine Dinner is offered for $125 per person plus tax and gratuity. <strong>Reservations are required</strong> and menu is subject to market availability and changes. For reservation or more information on this special dinner promotion\, call Shula&rsquo\;s Steak House Birmingham at 205-444-5750.
LOCATION:The Wynfrey Hotel 1000 Riverchase Galleria Birmingham AL 35244 (205) 987-1600
UID:e.145.3442
SEQUENCE:3
DTSTAMP:20260426T021921Z
URL:https://business.shelbychamber.org/events/details/silver-oak-wine-dinner-at-the-wynfrey-hotel-06-30-2011-3442
END:VEVENT

END:VCALENDAR
