BEGIN:VCALENDAR
VERSION:2.0
PRODID:-//ChamberMaster//Event Calendar 2.0//EN
METHOD:PUBLISH
X-PUBLISHED-TTL:P3D
REFRESH-INTERVAL:P3D
CALSCALE:GREGORIAN
BEGIN:VEVENT
DTSTART:20120122T000000Z
DTEND:20120122T050000Z
X-MICROSOFT-CDO-ALLDAYEVENT:FALSE
SUMMARY:Sips N Strokes® Pelham One Year Anniversary Painting and Karakoe Party
DESCRIPTION:
X-ALT-DESC;FMTTYPE=text/html:
LOCATION:Sips N Strokes® Pelham 381 Huntley parkway Pelham\,Al 35124
UID:e.145.3908
SEQUENCE:3
DTSTAMP:20260425T135641Z
URL:https://business.shelbychamber.org/events/details/sips-n-strokes-pelham-one-year-anniversary-painting-and-karakoe-party-01-21-2012-3908
END:VEVENT

END:VCALENDAR
