BEGIN:VCALENDAR
VERSION:2.0
PRODID:-//ChamberMaster//Event Calendar 2.0//EN
METHOD:PUBLISH
X-PUBLISHED-TTL:P3D
REFRESH-INTERVAL:P3D
CALSCALE:GREGORIAN
BEGIN:VEVENT
DTSTART:20131123T180000Z
DTEND:20131123T200000Z
X-MICROSOFT-CDO-ALLDAYEVENT:FALSE
SUMMARY:SisterGolf hosts Swinging Your Way to Success - Ladies Golf Clinic
DESCRIPTION:Networking\, Golf & Fun!! Come prepared to learn basic golf swing fundamentals\, network with like minded professional women\, and most of all have FUN!! Event will include a brief talk about the benefits of golf for business and career success followed by 90 minutes of professional golf instruction from PGA professional Matthew Jones. Don't delay\, Register today!! Space is limited and this event is sure to sell out!! To register\, please click on the link below: https://www.eventbrite.com/e/swing-your-way-to-success-ladies-golf-clinic-tickets-8141887605
X-ALT-DESC;FMTTYPE=text/html:Networking\, Golf &amp\; Fun!! Come prepared to learn basic golf swing fundamentals\, network with like minded professional women\, and most of all have FUN!! Event will include a brief talk about the benefits of golf for business and career success followed by 90 minutes of professional golf instruction from PGA professional Matthew Jones. Don&#39\;t delay\, Register today!! Space is limited and this event is sure to sell out!! To register\, please click on the link below: https://www.eventbrite.com/e/swing-your-way-to-success-ladies-golf-clinic-tickets-8141887605 
LOCATION:Highland Park Golf Course - 3300 Highland AV S\, Birmingham\, AL 35205
UID:e.145.4945
SEQUENCE:3
DTSTAMP:20260424T033922Z
URL:https://business.shelbychamber.org/events/details/sistergolf-hosts-swinging-your-way-to-success-ladies-golf-clinic-11-23-2013-4945
END:VEVENT

END:VCALENDAR
