BEGIN:VCALENDAR
VERSION:2.0
PRODID:-//ChamberMaster//Event Calendar 2.0//EN
METHOD:PUBLISH
X-PUBLISHED-TTL:P3D
REFRESH-INTERVAL:P3D
CALSCALE:GREGORIAN
BEGIN:VEVENT
DTSTART:20170129T203000Z
DTEND:20170129T230000Z
X-MICROSOFT-CDO-ALLDAYEVENT:FALSE
SUMMARY:SKATING IS A BLAST! - Free Ice Skating Event
DESCRIPTION:January is National Skate Month!! U.S Figure skating in conjunction with The Pelham Civic Complex & Ice Arena and the City of Pelham are proud to host a FREE event to share skating with the community. Our event\, Skating is a Blast\, will be January 29th from 3:00   5:00pm at the Pelham Civic Complex & Ice Arena. There will be 2 hours of free public skating and skate rental from 3:00   5:00pm\; 30 minutes of group class instruction from 3:00   3:30pm\; a skating exhibition by local skaters\; plus games and raffle prizes. Registration begins at 2:30pm Skating is a Blast is a FREE event for all ages that provides an opportunity to learn the basics of ice skating from professional instructors in a fun-filled environment. We look forward to hearing from you and hope you'll join us for the National Skating Month event. If you have any questions\, contact Craig Henderson\, Director of Skating at the Pelham Civic Complex & Ice Arena at chenderson@pelhamonline.com or call at (205) 620-6448 ext. 265 Skating is a Blast! Give the ice a try!
X-ALT-DESC;FMTTYPE=text/html:January is National Skate Month!! U.S Figure skating in conjunction with The Pelham Civic Complex &amp\; Ice Arena and the City of Pelham are proud to host a FREE event to share skating with the community. Our event\, Skating is a Blast\, will be January 29th from 3:00 &ndash\; 5:00pm at the Pelham Civic Complex &amp\; Ice Arena. There will be 2 hours of free public skating and skate rental from 3:00 &ndash\; 5:00pm\; 30 minutes of group class instruction from 3:00 &ndash\; 3:30pm\; a skating exhibition by local skaters\; plus games and raffle prizes. Registration begins at 2:30pm Skating is a Blast is a FREE event for all ages that provides an opportunity to learn the basics of ice skating from professional instructors in a fun-filled environment. We look forward to hearing from you and hope you&rsquo\;ll join us for the National Skating Month event. If you have any questions\, contact Craig Henderson\, Director of Skating at the Pelham Civic Complex &amp\; Ice Arena at chenderson@pelhamonline.com or call at (205) 620-6448 ext. 265 Skating is a Blast! Give the ice a try!
LOCATION:Pelham Civic Complex and Ice Arena Amphitheater Road Pelham\, AL 35124 We are conveniently located next to the Verizon Wireless Music Center with easy access to I-65.
UID:e.145.10328
SEQUENCE:3
DTSTAMP:20260421T132136Z
URL:https://business.shelbychamber.org/events/details/skating-is-a-blast-free-ice-skating-event-10328
END:VEVENT

END:VCALENDAR
