BEGIN:VCALENDAR
VERSION:2.0
PRODID:-//ChamberMaster//Event Calendar 2.0//EN
METHOD:PUBLISH
X-PUBLISHED-TTL:P3D
REFRESH-INTERVAL:P3D
CALSCALE:GREGORIAN
BEGIN:VEVENT
DTSTART:20141023T150000Z
DTEND:20141023T160000Z
X-MICROSOFT-CDO-ALLDAYEVENT:FALSE
SUMMARY:Skin Therapy Ribbon Cutting
DESCRIPTION:Ribbon Cutting to celebrate the GRAND opening of Skin Therapy
X-ALT-DESC;FMTTYPE=text/html:Ribbon Cutting to celebrate the GRAND opening of Skin Therapy
LOCATION:15 Mt Laurel Avenue Birmingham\, AL 35242
UID:e.145.6497
SEQUENCE:3
DTSTAMP:20260423T091515Z
URL:https://business.shelbychamber.org/events/details/skin-therapy-ribbon-cutting-10-23-2014-6497
END:VEVENT

END:VCALENDAR
