BEGIN:VCALENDAR
VERSION:2.0
PRODID:-//ChamberMaster//Event Calendar 2.0//EN
METHOD:PUBLISH
X-PUBLISHED-TTL:P3D
REFRESH-INTERVAL:P3D
CALSCALE:GREGORIAN
BEGIN:VEVENT
DTSTART:20130219T230000Z
DTEND:20130220T003000Z
X-MICROSOFT-CDO-ALLDAYEVENT:FALSE
SUMMARY:Skin Wellness Center of AL Botox Happy Hours with NO LINES!
DESCRIPTION:Learn if Botox Cosmetic is for you.  Ask Dr. Hartman\, Board Certified Dermatologist\, everything you want to know about Botox and Filler during Happy Hours.\n\n\n\nRSVP to Lisa Shoemaker at 205-871-7332 or info@skinwellnessal.com
X-ALT-DESC;FMTTYPE=text/html:Learn if Botox Cosmetic is for you.&nbsp\; Ask Dr. Hartman\, Board Certified Dermatologist\,&nbsp\;everything you want to know about Botox and Filler during Happy Hours.<br />\n<br />\nRSVP to Lisa Shoemaker&nbsp\;at 205-871-7332 or <a href="mailto:info@skinwellnessal.com">info@skinwellnessal.com</a>
LOCATION:Skin Wellness Center of AL - Homewood Location 2908 Central Avenue\, Ste. 150 Homewood\, AL 35209
UID:e.145.4539
SEQUENCE:3
DTSTAMP:20260424T172412Z
URL:https://business.shelbychamber.org/events/details/skin-wellness-center-of-al-botox-happy-hours-with-no-lines-02-19-2013-4539
END:VEVENT

END:VCALENDAR
