BEGIN:VCALENDAR
VERSION:2.0
PRODID:-//ChamberMaster//Event Calendar 2.0//EN
METHOD:PUBLISH
X-PUBLISHED-TTL:P3D
REFRESH-INTERVAL:P3D
CALSCALE:GREGORIAN
BEGIN:VEVENT
DTSTART;VALUE=DATE:20130514
DTEND;VALUE=DATE:20130515
TRANSP:TRANSPARENT
X-MICROSOFT-CDO-ALLDAYEVENT:TRUE
SUMMARY:Skin Wellness Center of AL Laser Tattoo Walk-in Hours 3-4 PM
DESCRIPTION:Receive 30% OFF your laser tattoo removal session during SWCA walk-in hours. Tuesday\,\n\nMay 7th and 14th from 3-4 PM.  Walk-in or schedule an appointment!\n\nLocation: 2908 Central Avenue\, Ste. 150\, Homewood\, AL 35209\n\nwww.skinwellnessal.com\n\n205-871-7332
X-ALT-DESC;FMTTYPE=text/html:Receive 30% OFF your laser tattoo removal session during SWCA walk-in hours. Tuesday\,<br />\nMay 7th and 14th from 3-4 PM.&nbsp\; Walk-in or schedule an appointment!<br />\nLocation: 2908 Central Avenue\, Ste. 150\, Homewood\, AL 35209<br />\nwww.skinwellnessal.com<br />\n205-871-7332
LOCATION:2908 Central Avenue\, Ste. 150\, Homewood\, AL 35209
UID:e.145.4610
SEQUENCE:3
DTSTAMP:20260424T120815Z
URL:https://business.shelbychamber.org/events/details/skin-wellness-center-of-al-laser-tattoo-walk-in-hours-3-4-pm-05-14-2013-4610
END:VEVENT

END:VCALENDAR
