BEGIN:VCALENDAR
VERSION:2.0
PRODID:-//ChamberMaster//Event Calendar 2.0//EN
METHOD:PUBLISH
X-PUBLISHED-TTL:P3D
REFRESH-INTERVAL:P3D
CALSCALE:GREGORIAN
BEGIN:VEVENT
DTSTART:20130507T200000Z
DTEND:20130507T210000Z
X-MICROSOFT-CDO-ALLDAYEVENT:FALSE
SUMMARY:Skin Wellness Center of AL Tattoo Walk-in Hours at the Homewood Office
DESCRIPTION:Receive 30% OFF your laser tattoo removal session during SWCA walk-in hours. Tuesday\,\n\nMay 7th and 14th from 3-4 PM.  Walk-in or schedule an appointment!\n\nLocation: 2908 Central Avenue\, Ste. 150\, Homewood\, AL 35209\n\nwww.skinwellnessal.com\n\n205-871-7332
X-ALT-DESC;FMTTYPE=text/html:Receive 30% OFF your laser tattoo removal session during SWCA walk-in hours. Tuesday\,<br />\nMay 7th and 14th from 3-4 PM.&nbsp\; Walk-in or schedule an appointment!<br />\nLocation: 2908 Central Avenue\, Ste. 150\, Homewood\, AL 35209<br />\nwww.skinwellnessal.com<br />\n205-871-7332
LOCATION:2908 Central Avenue\, Ste. 150\, Homewood\, AL 35209
UID:e.145.4609
SEQUENCE:3
DTSTAMP:20260424T120904Z
URL:https://business.shelbychamber.org/events/details/skin-wellness-center-of-al-tattoo-walk-in-hours-at-the-homewood-office-05-07-2013-4609
END:VEVENT

END:VCALENDAR
