BEGIN:VCALENDAR
VERSION:2.0
PRODID:-//ChamberMaster//Event Calendar 2.0//EN
METHOD:PUBLISH
X-PUBLISHED-TTL:P3D
REFRESH-INTERVAL:P3D
CALSCALE:GREGORIAN
BEGIN:VEVENT
DTSTART:20130227T210000Z
DTEND:20130227T213000Z
X-MICROSOFT-CDO-ALLDAYEVENT:FALSE
SUMMARY:Skin Wellness Center of Alabama - New Chelsea Office Ribbon Cutting!
DESCRIPTION:Mark your calendars ...\n\n \n\nThe Greater Shelby County Chamber of Commerce will be conducting a Ribbon Cutting Ceremony to celebrate Dr. Corey Hartman\, Nurse Practitioner Brittany Rigsby\, and the Skin Wellness Center of Alabama's NEW CHELSEA Office Opening!\n\n \n\nPlease join us for this special occasion!\n\n \n\nDate:  Wednesday\, February 27th\n\n \n\nTime:  3 PM\n\n \n\nLocation:  Skin Wellness Center of Alabama- Chelsea\n\n398 Chesser Drive\, Suite 3\n\nChelsea\, AL 35043\n\n \n\nRSVP to 205-871-7332 or cbrown@skinwellnessal.com\n\n \n\nWe look forward to seeing you!
X-ALT-DESC;FMTTYPE=text/html:<span style="font-size:12px\;"><span style="font-family: tahoma\;"><strong><em>Mark your calendars ...</em></strong><br />\n&nbsp\;<br />\n<strong><em>The Greater Shelby County Chamber of Commerce will be conducting a Ribbon Cutting Ceremony </em></strong><strong><em>to celebrate Dr. Corey Hartman\, Nurse Practitioner Brittany Rigsby\, </em></strong><strong><em>and the Skin Wellness Center of Alabama&rsquo\;s NEW CHELSEA Office Opening!</em></strong><br />\n&nbsp\;<br />\n<strong><em>Please join us for this special occasion!</em></strong><br />\n&nbsp\;<br />\n<strong><em>Date:</em></strong>&nbsp\; <em>Wednesday\, February 27th</em><br />\n&nbsp\;<br />\n<strong>Time:&nbsp\; </strong><em>3 PM</em><br />\n&nbsp\;<br />\n<strong><em>Location:</em></strong>&nbsp\; <em>Skin Wellness Center of Alabama- Chelsea</em><br />\n<em>398 Chesser Drive\, Suite 3</em><br />\n<em>Chelsea\, AL 35043</em><br />\n&nbsp\;<br />\n<em>RSVP to 205-871-7332 or <a href="mailto:cbrown@skinwellnessal.com">cbrown@skinwellnessal.com</a></em><br />\n&nbsp\;<br />\n<strong><em>We look forward to seeing you!</em></strong></span></span>
LOCATION:Skin Wellness Center of Alabama - Chelsea 398 Chesser Drive\, Suite 3 Chelsea\, AL 35043
UID:e.145.4508
SEQUENCE:3
DTSTAMP:20260424T172429Z
URL:https://business.shelbychamber.org/events/details/skin-wellness-center-of-alabama-new-chelsea-office-ribbon-cutting-02-27-2013-4508
END:VEVENT

END:VCALENDAR
