BEGIN:VCALENDAR
VERSION:2.0
PRODID:-//ChamberMaster//Event Calendar 2.0//EN
METHOD:PUBLISH
X-PUBLISHED-TTL:P3D
REFRESH-INTERVAL:P3D
CALSCALE:GREGORIAN
BEGIN:VEVENT
DTSTART:20160627T230000Z
DTEND:20160628T000000Z
X-MICROSOFT-CDO-ALLDAYEVENT:FALSE
SUMMARY:Skip Cain\, the Magic Guy
DESCRIPTION:Join us for an interactive show filled with magic and comedy. All Ages. No Registration Required. Sponsored by Kumon.
X-ALT-DESC;FMTTYPE=text/html:<span style="font-family:calibri light\,sans-serif">Join us for an interactive show filled with magic and comedy. All Ages. No Registration Required. <strong>Sponsored by Kumon.</strong></span>
LOCATION:North Shelby Library
UID:e.145.9541
SEQUENCE:3
DTSTAMP:20260422T025846Z
URL:https://business.shelbychamber.org/events/details/skip-cain-the-magic-guy-06-27-2016-9541
END:VEVENT

END:VCALENDAR
