BEGIN:VCALENDAR
VERSION:2.0
PRODID:-//ChamberMaster//Event Calendar 2.0//EN
METHOD:PUBLISH
X-PUBLISHED-TTL:P3D
REFRESH-INTERVAL:P3D
CALSCALE:GREGORIAN
BEGIN:VEVENT
DTSTART:20140307T010000Z
DTEND:20140307T030000Z
X-MICROSOFT-CDO-ALLDAYEVENT:FALSE
SUMMARY:Skip Tucker-Pale Blue Light
DESCRIPTION:Join the Shelby County Arts Council for this historical adventure thriller and good ol' southern comfort food.
X-ALT-DESC;FMTTYPE=text/html:Join the Shelby County Arts Council for this historical adventure thriller and good ol&#39\; southern comfort food. 
LOCATION:Shelby County Arts Council
UID:e.145.4921
SEQUENCE:3
DTSTAMP:20260423T212853Z
URL:https://business.shelbychamber.org/events/details/skip-tucker-pale-blue-light-03-06-2014-4921
END:VEVENT

END:VCALENDAR
