BEGIN:VCALENDAR
VERSION:2.0
PRODID:-//ChamberMaster//Event Calendar 2.0//EN
METHOD:PUBLISH
X-PUBLISHED-TTL:P3D
REFRESH-INTERVAL:P3D
CALSCALE:GREGORIAN
BEGIN:VEVENT
DTSTART:20151020T160000Z
DTEND:20151020T200000Z
X-MICROSOFT-CDO-ALLDAYEVENT:FALSE
SUMMARY:Smooth Away Your Lines and Wrinkles
DESCRIPTION:MD Wellness & Aesthetics invites you to\n\nSMOOTH AWAY YOUR LINES AND WRINKLES\n\nTuesday\, October 20th\n\n11am-3pm\n\n\n\nCustom Smoothie bar hosted by O'Henry's from 11am-1pm\n\n\n\nFREE liquid face lift consultations with the local Galderma Aesthteics Representative & Dr. Campbell\n\n\n\nPurchase 2 Restylane Lyft & 1 Restylane Silk...get 1 area of Dysport and 1 chemical peel FREE ($350 value)\n\nPurchase 1 Restylane Lyft & 1 Restylane Silk...get 1 area of Dysport and 1 chemical peel FREE ($350 value)\n\nPurchase 2 areas of Dysport...get 1 area of Dysport & 1 Vitamin C Skin Brightening Facial FREE ($280 value)\n\n\n\n**Bring a friend & get 1 month of B12 Injections FREE\n\nCall to RSVP (205) 582-9216
X-ALT-DESC;FMTTYPE=text/html:<div style="text-align: center\;"><a href="http://mdwellnessandaesthetics.com">MD Wellness &amp\; Aesthetics</a> invites you to<br />\n<strong><span style="font-size:14px">SMOOTH AWAY YOUR LINES AND WRINKLES</span></strong><br />\nTuesday\, October 20th<br />\n11am-3pm<br />\n<br />\nCustom Smoothie bar hosted by O&#39\;Henry&#39\;s from 11am-1pm<br />\n<br />\nFREE liquid face lift consultations with the local Galderma Aesthteics Representative &amp\; Dr. Campbell<br />\n<br />\n<strong>Purchase 2 Restylane Lyft &amp\; 1 Restylane Silk...get 1 area of Dysport and 1 chemical peel FREE ($350 value)<br />\nPurchase 1 Restylane Lyft &amp\; 1 Restylane Silk...get 1 area of Dysport and 1 chemical peel FREE ($350 value)<br />\nPurchase 2 areas of Dysport...get 1 area of Dysport &amp\; 1 Vitamin C Skin Brightening Facial FREE ($280 value)</strong><br />\n<br />\n<strong><em>**Bring a friend &amp\; get 1 month of B12 Injections FREE</em></strong></div>\n\n<div style="text-align: center\;"><span style="font-size:14px">Call to RSVP (205) 582-9216</span></div>\n
LOCATION:650 Inverness Corners
UID:e.145.7935
SEQUENCE:3
DTSTAMP:20260422T154438Z
URL:https://business.shelbychamber.org/events/details/smooth-away-your-lines-and-wrinkles-10-20-2015-7935
END:VEVENT

END:VCALENDAR
