BEGIN:VCALENDAR
VERSION:2.0
PRODID:-//ChamberMaster//Event Calendar 2.0//EN
METHOD:PUBLISH
X-PUBLISHED-TTL:P3D
REFRESH-INTERVAL:P3D
CALSCALE:GREGORIAN
BEGIN:VEVENT
DTSTART:20140918T223000Z
DTEND:20140918T234500Z
X-MICROSOFT-CDO-ALLDAYEVENT:FALSE
SUMMARY:Social Security: Your Questions Answered
DESCRIPTION:Do You Have Social Security Questions?\n\nJoin us for our presentation Social Security: Your Questions Answered.\n\nWe'll discuss how Social Security fits into your retirement income plan\, when you should start taking benefits\, and tax considerations. Click here to open a printable PDF flier: Social Security Questions .\n\nSeating is limited\, so contact me today to reserve space for yourself and a guest at this educational seminar. You can also call me for additional information\, such as directions to my office.\n\nEdward Jones\, its employees and financial advisors cannot provide tax or legal advice. Please consult your attorney or qualified tax advisor regarding your situation.
X-ALT-DESC;FMTTYPE=text/html:<h1>Do You Have Social Security Questions?</h1>\n\n<p><span style="font-size: 14px\;">Join us for our presentation <em><u>Social Security:</u> Your Questions Answered</em>.</span></p>\n\n<p><span style="font-size: 14px\;">We&#39\;ll discuss how Social Security fits into your retirement income plan\, when you should start taking benefits\, and tax considerations. Click here to open a printable PDF flier: <a href="http://cloud.chambermaster.com/userfiles/UserFiles/chambers/145/File/Community%20Events/ss.pdf">Social Security Questions</a> .</span></p>\n\n<p><span style="font-size: 14px\;">Seating is limited\, so contact me today to reserve space for yourself and a guest at this educational seminar. You can also call me for additional information\, such as directions to my office.</span></p>\n\n<p class="disclaimer"><em>Edward Jones\, its employees and financial advisors cannot provide tax or legal advice. Please consult your attorney or qualified tax advisor regarding your situation.</em></p>\n
LOCATION:Somerby (2nd floor) 200 One Nineteen Blvd Birmingham\, AL 35242
UID:e.145.5810
SEQUENCE:3
DTSTAMP:20260423T103813Z
URL:https://business.shelbychamber.org/events/details/social-security-your-questions-answered-09-18-2014-5810
END:VEVENT

END:VCALENDAR
