BEGIN:VCALENDAR
VERSION:2.0
PRODID:-//ChamberMaster//Event Calendar 2.0//EN
METHOD:PUBLISH
X-PUBLISHED-TTL:P3D
REFRESH-INTERVAL:P3D
CALSCALE:GREGORIAN
BEGIN:VEVENT
DTSTART:20141212T173000Z
DTEND:20141212T180000Z
X-MICROSOFT-CDO-ALLDAYEVENT:FALSE
SUMMARY:Southern Roots Ribbon Cutting
DESCRIPTION:Southern Roots is celebrating their Grand opening with a Ribbon Cutting and Open House. This is going to be a great event with even better deals! Come join us and get some Christmas Shopping done!
X-ALT-DESC;FMTTYPE=text/html:Southern Roots is celebrating their Grand opening with a Ribbon Cutting and Open House. This is going to be a great event with even better deals! Come join us and get some Christmas Shopping done! &nbsp\;&nbsp\;&nbsp\;
LOCATION:They are located at 48 Chesser Crane Road in Chelsea. This is the shopping center behind the Winn-Dixie.Their phone number is 602-8085
UID:e.145.6546
SEQUENCE:3
DTSTAMP:20260423T063155Z
URL:https://business.shelbychamber.org/events/details/southern-roots-ribbon-cutting-12-12-2014-6546
END:VEVENT

END:VCALENDAR
