BEGIN:VCALENDAR
VERSION:2.0
PRODID:-//ChamberMaster//Event Calendar 2.0//EN
METHOD:PUBLISH
X-PUBLISHED-TTL:P3D
REFRESH-INTERVAL:P3D
CALSCALE:GREGORIAN
BEGIN:VEVENT
DTSTART:20110222T000000Z
DTEND:20110503T010000Z
X-MICROSOFT-CDO-ALLDAYEVENT:FALSE
SUMMARY:Spanish for the Community
DESCRIPTION:Haven't you just been waiting for an opportunity to learn Spanish in a very casual environment? Well\, here it is! Spanish for the Community will be offered on Monday evenings 6-8 pm starting February 21st at the Pelham In-Service Center. The class will meet for 10 weeks (skipping Monday\, March 14th during Spring Break) through May 2nd. This will actually be a continuation of the beginning class from last term so it is for those who have some (but not much) knowledge of Spanish. We have only covered the first 3 chapters in our book. The first class will be a review of the first 3 chapters so it should be easy for anyone with a little knowledge of Spanish to catch up. The cost of the class if $195 (book included).\n\n\n\nFor more information or to register for the class\, please go to www.montevallo.edu/cont_ed/spanishcommunity.shtm.\n\n\n\nDates: 10 class sessions per course\n\n\n\n(Course #18170) Monday evenings February 21 through May 2\, 2011 (except for March 14th)\n\n\n\nTimes: 6:00-8:00 pm on Monday evenings\n\n\n\nInstructor: Janet Bishop\, MHS (Master of Hispanic Studies)\n\n\n\nCost: $175.00 per person (if you already have your book)\n\n\n\n$195.00 per person (book included)\n\n\n\nClass Limit: 24
X-ALT-DESC;FMTTYPE=text/html:Haven&#39\;t you just been waiting for an opportunity to learn Spanish in a very casual environment? Well\, here it is! Spanish for the Community will be offered on Monday evenings 6-8 pm starting February 21st at the Pelham In-Service Center. The class will meet for 10 weeks (skipping Monday\, March 14th during Spring Break) through May 2nd. This will actually be a continuation of the beginning class from last term so it is for those who have some (but not much) knowledge of Spanish. We have only covered the first 3 chapters in our book. The first class will be a review of the first 3 chapters so it should be easy for anyone with a little knowledge of Spanish to catch up. The cost of the class if $195 (book included).<br />\n<br />\nFor more information or to register for the class\, please go to www.montevallo.edu/cont_ed/spanishcommunity.shtm.<br />\n<br />\nDates: 10 class sessions per course<br />\n<br />\n(Course #18170) Monday evenings February 21 through May 2\, 2011 (except for March 14th)<br />\n<br />\nTimes: 6:00-8:00 pm on Monday evenings<br />\n<br />\nInstructor: Janet Bishop\, MHS (Master of Hispanic Studies)<br />\n<br />\nCost: $175.00 per person (if you already have your book)<br />\n<br />\n$195.00 per person (book included)<br />\n<br />\nClass Limit: 24
LOCATION:University of Montevallo Regional In-Service Education Center and Department of Continuing Education 2790 Pelham Parkway Pelham\, AL 35124 Phone: 205-358-8543 Fax: 205-358-8788
UID:e.145.3223
SEQUENCE:3
DTSTAMP:20260426T033816Z
URL:https://business.shelbychamber.org/events/details/spanish-for-the-community-02-21-2011-3223
END:VEVENT

END:VCALENDAR
