BEGIN:VCALENDAR
VERSION:2.0
PRODID:-//ChamberMaster//Event Calendar 2.0//EN
METHOD:PUBLISH
X-PUBLISHED-TTL:P3D
REFRESH-INTERVAL:P3D
CALSCALE:GREGORIAN
BEGIN:VEVENT
DTSTART:20111018T133000Z
DTEND:20111018T213000Z
X-MICROSOFT-CDO-ALLDAYEVENT:FALSE
SUMMARY:Speak with Confidence --Powerful Presentation Skills
DESCRIPTION:Confidence when speaking to one person or 100 people is a powerful leadership trait and a prime opportunity to leverage yourself as a valuable asset and topic expert.  Discover a proven\, process-driven speaking system that keeps your listeners engaged and creates buy-in\, either in person or virtually.  This one-day\, interactive workshop helps you apply expert skills such as a step-by-step organizational technique to accelerate results\; create buy-in and persuade top-level decision makers\; and trouble-shooting tips to avoid being flustered or tongue-tied.\n\n\n\nParticipation is limited to 30 people\; lunch\, learning materials and parking are all included.  Registration is $129 prior to October 1 and $159 after.  For more information\, contact Allison Blankenship\, president of Precision Speaking\, Inc\, at (205) 824-2004.
X-ALT-DESC;FMTTYPE=text/html:Confidence when speaking to one person or 100 people is a powerful leadership trait and a prime opportunity to leverage yourself as a valuable asset and topic expert.&nbsp\; Discover a proven\, process-driven speaking system that keeps your listeners engaged and creates buy-in\, either in person or virtually.&nbsp\; This one-day\, interactive workshop helps you apply expert skills such as a step-by-step organizational technique to accelerate results\; create buy-in and persuade top-level decision makers\; and trouble-shooting tips to avoid being flustered or tongue-tied.<br />\n<br />\nParticipation is limited to 30 people\; lunch\, learning materials and parking are all included.&nbsp\; Registration is $129 prior to October 1 and $159 after.&nbsp\; For more information\, contact Allison Blankenship\, president of Precision Speaking\, Inc\, at (205) 824-2004.
LOCATION:The Club\, Birmingham\, AL
UID:e.145.3516
SEQUENCE:3
DTSTAMP:20260425T183107Z
URL:https://business.shelbychamber.org/events/details/speak-with-confidence-powerful-presentation-skills-10-18-2011-3516
END:VEVENT

END:VCALENDAR
