BEGIN:VCALENDAR
VERSION:2.0
PRODID:-//ChamberMaster//Event Calendar 2.0//EN
METHOD:PUBLISH
X-PUBLISHED-TTL:P3D
REFRESH-INTERVAL:P3D
CALSCALE:GREGORIAN
BEGIN:VEVENT
DTSTART:20121206T143000Z
DTEND:20121206T160000Z
X-MICROSOFT-CDO-ALLDAYEVENT:FALSE
SUMMARY:SpeedNetworking for Professionals Times Four Chambers!
DESCRIPTION:SpeedNetworking for Professionals Times Four Chambers\n\n\n\nThe Greater Shelby Chamber is excited to host a four-Chamber networking event with the Calera\, Montevallo\, and South Shelby Chambers of Commerce! Bring a stack of 100+ business cards and meet us at the Parnell Library\, 277 Park Drive\, Montevallo for a fun SpeedNetworking event!\n\n \n\nSpeedNetworking for Professionals Times Four will be held on Thursday\, December 6th\, from 8:30 am until 10 am at the Parnell Library\, 277 Park Drive\, Montevallo. There is no cost to attend\; however\, please RSVP so that we can prepare accordingly. Contact the Greater Shelby Chamber at 663-4542 or register online above.
X-ALT-DESC;FMTTYPE=text/html:SpeedNetworking for Professionals Times Four Chambers<br />\n<br />\nThe Greater Shelby Chamber is excited to host a four-Chamber networking event with the Calera\, Montevallo\, and South Shelby Chambers of Commerce! Bring a stack of 100+ business cards and meet us at the Parnell Library\, 277 Park Drive\, Montevallo for a fun SpeedNetworking event!<br />\n&nbsp\;<br />\nSpeedNetworking for Professionals Times Four will be held on Thursday\, December 6th\, from 8:30 am until 10 am at the Parnell Library\, 277 Park Drive\, <span>Montevallo</span>. There is no cost to attend\; however\, please RSVP so that we can prepare accordingly. Contact the Greater Shelby Chamber at 663-4542 or register online above.
LOCATION:Parnell Memorial Library 277 Park Drive Montevallo\, AL 35115
UID:e.145.4432
SEQUENCE:3
DTSTAMP:20260424T201634Z
URL:https://business.shelbychamber.org/events/details/speednetworking-for-professionals-times-four-chambers-12-06-2012-4432
END:VEVENT

END:VCALENDAR
