BEGIN:VCALENDAR
VERSION:2.0
PRODID:-//ChamberMaster//Event Calendar 2.0//EN
METHOD:PUBLISH
X-PUBLISHED-TTL:P3D
REFRESH-INTERVAL:P3D
CALSCALE:GREGORIAN
BEGIN:VEVENT
DTSTART:20120209T143000Z
DTEND:20120209T160000Z
X-MICROSOFT-CDO-ALLDAYEVENT:FALSE
SUMMARY:SpeedNetworking for Professionals Times Three
DESCRIPTION:SpeedNetworking for Professionals Times Three\n\n\n\nThe Greater Shelby Chamber is excited to host a three-Chamber networking event with the Hoover Area and Vestavia Hills Chambers of Commerce! Bring a stack of 100+ business cards and meet us at The Wynfrey Hotel for fun\, fast and furious SpeedNetworking event!\n\n \n\nSpeedNetworking for Professionals Times Three will be held on Thursday\, February 9th\, from 8:30 am until 10 am at The Wynfrey Hotel (Riverchase Galleria). There is no cost to attend\; however\, please RSVP so that we can set up accordingly. Contact the Greater Shelby Chamber at 663-4542 or register online above.
X-ALT-DESC;FMTTYPE=text/html:SpeedNetworking for Professionals Times Three<br />\n<br />\nThe Greater Shelby Chamber is excited to host a three-Chamber networking event with the Hoover Area and Vestavia Hills Chambers of Commerce! Bring a stack of 100+ business cards and meet us at The Wynfrey Hotel for fun\, fast and furious SpeedNetworking event!<br />\n&nbsp\;<br />\nSpeedNetworking for Professionals Times Three will be held on Thursday\, February 9th\, from 8:30 am until 10 am at The Wynfrey Hotel (Riverchase Galleria). There is no cost to attend\; however\, please RSVP so that we can set up accordingly. Contact the Greater Shelby Chamber at 663-4542 or register online above.
LOCATION:The Wynfrey Hotel (Riverchase Galleria) 1000 Riverchase Galleria Birmingham\, AL 35242
UID:e.145.3902
SEQUENCE:3
DTSTAMP:20260425T115727Z
URL:https://business.shelbychamber.org/events/details/speednetworking-for-professionals-times-three-02-09-2012-3902
END:VEVENT

END:VCALENDAR
