BEGIN:VCALENDAR
VERSION:2.0
PRODID:-//ChamberMaster//Event Calendar 2.0//EN
METHOD:PUBLISH
X-PUBLISHED-TTL:P3D
REFRESH-INTERVAL:P3D
CALSCALE:GREGORIAN
BEGIN:VEVENT
DTSTART:20140722T133000Z
DTEND:20140722T153000Z
X-MICROSOFT-CDO-ALLDAYEVENT:FALSE
SUMMARY:SpeedNetworking Times FIVE Chambers!
DESCRIPTION:SpeedNetworking Times FIVE Chambers!\n\n\n\nYou are invited to SpeedNetworking Times FIVE Chambers!  The Greater Shelby\, Homewood\, Hoover Area\, Mountain Brook\, and Vestavia Hills Chambers of Commerce have come together to offer a premiere two hour networking event all members to enjoy!  Be prepared by bringing 200+ business cards and join in the fun at Hyatt Regency Birmingham - The Wynfrey Hotel\, 1000 Riverchase Galleria\, Birmingham\, AL 35244.\n\n \n\nSpeedNetworking Times FIVE will be held on Tuesday\, July 22\, from 8:30AM until 10:30AM at Hyatt Regency Birmingham - The Wynfrey Hotel\, 1000 Riverchase Galleria\, Birmingham\, AL 35244.\n\n\n\nThere is no cost to attend. Reservations are requested by noon\, Friday\, July 18 to assist in preparation for the event.\n\n\n\nPlease RSVP to the Greater Shelby County Chamber of Commerce (click Register Now or call 663-4542) OR RSVP to the Hoover Area Chamber of Commerce 988-5672 only.
X-ALT-DESC;FMTTYPE=text/html:<br />\n<strong>SpeedNetworking Times FIVE Chambers!</strong><br />\n<br />\nYou are invited to SpeedNetworking Times FIVE Chambers!&nbsp\; The Greater Shelby\, Homewood\, Hoover Area\, Mountain Brook\, and Vestavia Hills Chambers of Commerce have come together to offer a premiere two hour networking event all members to enjoy!&nbsp\; Be prepared by bringing 200+ business cards and join in the fun at Hyatt Regency Birmingham - The Wynfrey Hotel\, 1000 Riverchase Galleria\, Birmingham\, AL 35244.<br />\n&nbsp\;<br />\nSpeedNetworking Times FIVE will be held on Tuesday\, July 22\, from 8:30AM until 10:30AM at Hyatt Regency Birmingham - The Wynfrey Hotel\, 1000 Riverchase Galleria\, Birmingham\, AL 35244.<br />\n<br />\nThere is no cost to attend. Reservations are requested by noon\, Friday\, July 18 to assist in preparation for the event.<br />\n<br />\nPlease RSVP to the Greater Shelby County Chamber of Commerce (click Register Now or call 663-4542) OR RSVP to the Hoover Area Chamber of Commerce 988-5672 only.
LOCATION:Hyatt Regency Birmingham - The Wynfrey Hotel 1000 Riverchase Galleria\, Birmingham\, AL 35244 (205) 987-1600
UID:e.145.5510
SEQUENCE:3
DTSTAMP:20260423T133254Z
URL:https://business.shelbychamber.org/events/details/speednetworking-times-five-chambers-07-22-2014-5510
END:VEVENT

END:VCALENDAR
