BEGIN:VCALENDAR
VERSION:2.0
PRODID:-//ChamberMaster//Event Calendar 2.0//EN
METHOD:PUBLISH
X-PUBLISHED-TTL:P3D
REFRESH-INTERVAL:P3D
CALSCALE:GREGORIAN
BEGIN:VEVENT
DTSTART:20130730T133000Z
DTEND:20130730T150000Z
X-MICROSOFT-CDO-ALLDAYEVENT:FALSE
SUMMARY:SpeedNetworking Times FIVE Chambers!
DESCRIPTION:SpeedNetworking for Professionals Times FIVE Chambers!\n\n\n\nYou are invited to SpeedNetworking Times FIVE Chambers!  The Greater Shelby\, Homewood\, Hoover Area\, Mountain Brook\, and Vestavia Hills Chambers of Commerce have come together to offer a premiere networking event all members to enjoy!  Be prepared by bringing 200+ business cards and join in the fun at Hyatt Regency Birmingham - The Wynfrey Hotel\, 1000 Riverchase Galleria\, Birmingham\, AL 35244.\n\n \n\nSpeedNetworking for Professionals Times FIVE will be held on Tuesday\, July 30th\, from 8:30AM until 10:00AM at Hyatt Regency Birmingham - The Wynfrey Hotel\, 1000 Riverchase Galleria\, Birmingham\, AL 35244.\n\n\n\nThere is no cost to attend.\n\nPlease RSVP to your respective Chamber or register online above by July 26.
X-ALT-DESC;FMTTYPE=text/html:<strong>SpeedNetworking for Professionals Times FIVE Chambers!</strong><br />\n<br />\nYou are invited to SpeedNetworking Times FIVE Chambers!&nbsp\; The Greater Shelby\, Homewood\, Hoover Area\, Mountain Brook\, and Vestavia Hills Chambers of Commerce have come together to offer a premiere networking event all members to enjoy!&nbsp\; Be prepared by bringing 200+ business cards and join in the fun at Hyatt Regency Birmingham - The Wynfrey Hotel\, 1000 Riverchase Galleria\, Birmingham\, AL 35244.<br />\n&nbsp\;<br />\nSpeedNetworking for Professionals Times FIVE will be held on Tuesday\, July 30th\, from 8:30AM until 10:00AM at Hyatt Regency Birmingham - The Wynfrey Hotel\, 1000 Riverchase Galleria\, Birmingham\, AL 35244.<br />\n<br />\nThere is no cost to attend.<br />\nPlease RSVP to your respective Chamber or register online above by July 26.
LOCATION:Hyatt Regency Birmingham - The Wynfrey Hotel 1000 Riverchase Galleria\, Birmingham\, AL 35244 (205) 987-1600
UID:e.145.4626
SEQUENCE:3
DTSTAMP:20260424T102420Z
URL:https://business.shelbychamber.org/events/details/speednetworking-times-five-chambers-07-30-2013-4626
END:VEVENT

END:VCALENDAR
