BEGIN:VCALENDAR
VERSION:2.0
PRODID:-//ChamberMaster//Event Calendar 2.0//EN
METHOD:PUBLISH
X-PUBLISHED-TTL:P3D
REFRESH-INTERVAL:P3D
CALSCALE:GREGORIAN
BEGIN:VEVENT
DTSTART:20141008T133000Z
DTEND:20141008T150000Z
X-MICROSOFT-CDO-ALLDAYEVENT:FALSE
SUMMARY:SpeedNetworking Times Four Chambers
DESCRIPTION:SpeedNetworking Times Four Chambers\n\n\n\nYou are invited to SpeedNetworking Times Four Chambers!  The Greater Shelby\, Calera\, Montevallo\, and South Shelby Chambers of Commerce have come together to offer a premiere networking event all members to enjoy!  Be prepared by bringing 100+ business cards and join in the fun at Parnell Library\, 277 Park Drive\, Montevallo\, AL 35115.\n\n \n\nSpeedNetworking Times Four Chambers will be held on Wednesday\, October 8\, from 8:30AM until 10:00AM.\n\n\n\nThere is no cost to attend.\n\nPlease register online above by October 6.
X-ALT-DESC;FMTTYPE=text/html:<strong>SpeedNetworking Times Four Chambers</strong><br />\n<br />\nYou are invited to SpeedNetworking Times Four Chambers!&nbsp\; The Greater Shelby\, Calera\, Montevallo\, and South Shelby Chambers of Commerce have come together to offer a premiere networking event all members to enjoy!&nbsp\; Be prepared by bringing 100+ business cards and join in the fun at Parnell Library\, 277 Park Drive\, Montevallo\, AL 35115.<br />\n&nbsp\;<br />\nSpeedNetworking Times Four Chambers will be held on Wednesday\, October 8\, from 8:30AM until 10:00AM.<br />\n<br />\nThere is no cost to attend.<br />\nPlease register online above by October 6.
LOCATION:Parnell Memorial Library 277 Park Drive Montevallo\, AL 35115
UID:e.145.5811
SEQUENCE:3
DTSTAMP:20260423T093622Z
URL:https://business.shelbychamber.org/events/details/speednetworking-times-four-chambers-10-08-2014-5811
END:VEVENT

END:VCALENDAR
