BEGIN:VCALENDAR
VERSION:2.0
PRODID:-//ChamberMaster//Event Calendar 2.0//EN
METHOD:PUBLISH
X-PUBLISHED-TTL:P3D
REFRESH-INTERVAL:P3D
CALSCALE:GREGORIAN
BEGIN:VEVENT
DTSTART:20131119T143000Z
DTEND:20131119T160000Z
X-MICROSOFT-CDO-ALLDAYEVENT:FALSE
SUMMARY:SpeedNetworking Times Four Chambers!
DESCRIPTION:SpeedNetworking for Professionals Times Four Chambers!\n\n\n\nYou are invited to SpeedNetworking Times Four Chambers!  The Greater Shelby\, Calera\, Montevallo\, and South Shelby Chambers of Commerce have come together to offer a premiere networking event all members to enjoy!  Be prepared by bringing 100+ business cards and join in the fun at Shelby County Instructional Services Center\, 601 First Street North\, Alabaster\, 35007.\n\n \n\nSpeedNetworking for Professionals Times FOUR will be held on Tuesday\, November 19\, from 8:30AM until 10:00AM.\n\n\n\nThere is no cost to attend.\n\nPlease RSVP to your respective Chamber or register online above by November 15.
X-ALT-DESC;FMTTYPE=text/html:<strong>SpeedNetworking for Professionals Times Four Chambers!</strong><br />\n<br />\nYou are invited to SpeedNetworking Times Four Chambers!&nbsp\; The Greater Shelby\, Calera\, Montevallo\, and South Shelby Chambers of Commerce have come together to offer a premiere networking event all members to enjoy!&nbsp\; Be prepared by bringing 100+ business cards and join in the fun at Shelby County Instructional Services Center\, 601 First Street North\, Alabaster\, 35007.<br />\n&nbsp\;<br />\nSpeedNetworking for Professionals Times FOUR will be held on Tuesday\, November 19\, from 8:30AM until 10:00AM.<br />\n<br />\nThere is no cost to attend.<br />\nPlease RSVP to your respective Chamber or register online above by November 15.
LOCATION:Shelby County Instructional Services Center 601 First Street North\, Alabaster\, AL 35007 (205) 682-5910
UID:e.145.4770
SEQUENCE:3
DTSTAMP:20260424T020532Z
URL:https://business.shelbychamber.org/events/details/speednetworking-times-four-chambers-11-19-2013-4770
END:VEVENT

END:VCALENDAR
