BEGIN:VCALENDAR
VERSION:2.0
PRODID:-//ChamberMaster//Event Calendar 2.0//EN
METHOD:PUBLISH
X-PUBLISHED-TTL:P3D
REFRESH-INTERVAL:P3D
CALSCALE:GREGORIAN
BEGIN:VEVENT
DTSTART:20151104T143000Z
DTEND:20151104T163000Z
X-MICROSOFT-CDO-ALLDAYEVENT:FALSE
SUMMARY:SpeedNetworking Times NINE Chambers!
DESCRIPTION:SpeedNetworking Times NINE Chambers!\n\n\n\nThe Greater Shelby County\, Calera\, Homewood\, Hoover\, Irondale\, Montevallo\, Mountain Brook\, Trussville and Vestavia Hills chambers of commerce are joining together to host a NINE-Chamber SpeedNetworking event for members to expand the opportunity to connect!\n\n\n\nParticipants are encouraged to bring a minimum 500+ business cards and be ready for a morning of fun\, fast and free networking. Comedienne Joy will get the event rolling by sharing some clean comic relief to break the ice\, kick things off and get your smile on. If you haven't experienced her comedy ... you're in for a treat because it's prodocious.\n\n\n\nThank you to the sponsor and host of this huge networking opportunity\, Hyatt Regency Birmingham - The Wynfrey Hotel\, 1000 Riverchase Galleria\, Birmingham.\n\n\n\nSpeedNetworking Times NINE Chambers will be held on Wednesday\, November 4\, from 8:30AM until 10:30AM at the Hyatt Regency Birmingham - The Wynfrey Hotel (Galleria).\n\n\n\nThere is no cost to attend however EARLY reservations are recommended as this event has a tendency to reach full capacity quickly.\n\n\n\nReservations will be taken until Monday\, November 2 or until at full capacity. Contact the Greater Shelby Chamber at 663-4542 or register online above.
X-ALT-DESC;FMTTYPE=text/html:<br />\n<strong>SpeedNetworking Times NINE Chambers!</strong><br />\n<br />\nThe Greater Shelby County\, Calera\, Homewood\, Hoover\, Irondale\, Montevallo\, Mountain Brook\, Trussville and Vestavia Hills chambers of commerce are joining together to host a NINE-Chamber SpeedNetworking event for members to expand the opportunity to connect!<br />\n<br />\nParticipants are encouraged to bring a minimum 500+ business cards and be ready for a morning of fun\, fast and free networking. <a href="http://www.joythequeenofclean.com/">Comedienne Joy</a> will get the event rolling by sharing some clean comic relief to break the ice\, kick things off and get your smile on. If you haven&#39\;t experienced her comedy ... you&#39\;re in for a treat because it&#39\;s prodocious.<br />\n<br />\nThank you to the sponsor and host of this huge networking opportunity\, Hyatt Regency Birmingham - The Wynfrey Hotel\, 1000 Riverchase Galleria\, Birmingham.<br />\n<br />\nSpeedNetworking Times NINE Chambers will be held on Wednesday\, November 4\, from 8:30AM until 10:30AM at the <a href="http://wynfrey.regency.hyatt.com/en/hotel/home.html">Hyatt Regency Birmingham - The Wynfrey Hotel</a> (Galleria).<br />\n<br />\nThere is no cost to attend however EARLY reservations are recommended as this event has a tendency to reach full capacity quickly.<br />\n<br />\nReservations will be taken until Monday\, November 2 or until at full capacity. Contact the Greater Shelby Chamber at 663-4542 or register online above.
LOCATION:Hyatt Regency Birmingham - The Wynfrey Hotel 1000 Riverchase Galleria\, Birmingham\, AL 35244 (205) 987-1600
UID:e.145.7784
SEQUENCE:3
DTSTAMP:20260422T140051Z
URL:https://business.shelbychamber.org/events/details/speednetworking-times-nine-chambers-11-04-2015-7784
END:VEVENT

END:VCALENDAR
