BEGIN:VCALENDAR
VERSION:2.0
PRODID:-//ChamberMaster//Event Calendar 2.0//EN
METHOD:PUBLISH
X-PUBLISHED-TTL:P3D
REFRESH-INTERVAL:P3D
CALSCALE:GREGORIAN
BEGIN:VEVENT
DTSTART:20160714T133000Z
DTEND:20160714T153000Z
X-MICROSOFT-CDO-ALLDAYEVENT:FALSE
SUMMARY:SpeedNetworking Times Ten Chambers!
DESCRIPTION:Ten Chamber SpeedNetworking Event\n\nExpands Opportunity to Connect!\n\n\nThe following chambers in alphabetical order are: Calera\, Greater Shelby County\, Homewood\, Hoover\, Irondale\, Montevallo\, Mountain Brook\, South Shelby\, Trussville and Vestavia Hills have come together to expand the opportunity for investors/ members to connect!\n\n\n\nParticipants are encouraged to bring a minimum 200+ business cards and ready for a morning of fun\, fast and free networking!\n\n\n\nThe event will be held from 8:30AM until 10:30AM on Thursday\, July 14 at the Birmingham Marriott Hotel\, 3590 Grandview Parkway\, Birmingham.\n\n\n\nThere is no cost to attend. Early reservations are encouraged and will be taken until Monday\, July 11. Contact the Greater Shelby Chamber at 663-4542 or register online above.
X-ALT-DESC;FMTTYPE=text/html:<div style="text-align: center\;"><br />\n<span style="font-size:14px\;"><strong>Ten Chamber SpeedNetworking&nbsp\;Event</strong></span></div>\n\n<div style="text-align: center\;"><span style="font-size:14px\;"><strong>Expands Opportunity to Connect!</strong></span></div>\n<br />\nThe following chambers in alphabetical order are:&nbsp\;Calera\, Greater Shelby County\, Homewood\, Hoover\, Irondale\, Montevallo\, Mountain Brook\, South Shelby\, Trussville and Vestavia Hills have come together to&nbsp\;expand the opportunity for investors/ members to connect!<br />\n<br />\nParticipants are encouraged to bring a minimum 200+ business cards and ready for a morning of fun\, fast and free networking!<br />\n<br />\nThe event will be held from 8:30AM until 10:30AM on Thursday\, July 14 at the Birmingham Marriott Hotel\, 3590 Grandview Parkway\, Birmingham.<br />\n<br />\nThere is no cost to attend. Early reservations are encouraged and will be taken until Monday\, July 11. Contact the Greater Shelby Chamber&nbsp\;at 663-4542 or register online above.
LOCATION:Birmingham Marriott 3590 Grandview Parkway Birmingham\, AL 35243
UID:e.145.9593
SEQUENCE:3
DTSTAMP:20260422T011610Z
URL:https://business.shelbychamber.org/events/details/speednetworking-times-ten-chambers-07-14-2016-9593
END:VEVENT

END:VCALENDAR
