BEGIN:VCALENDAR
VERSION:2.0
PRODID:-//ChamberMaster//Event Calendar 2.0//EN
METHOD:PUBLISH
X-PUBLISHED-TTL:P3D
REFRESH-INTERVAL:P3D
CALSCALE:GREGORIAN
BEGIN:VEVENT
DTSTART;VALUE=DATE:20120801
DTEND;VALUE=DATE:20120901
TRANSP:TRANSPARENT
X-MICROSOFT-CDO-ALLDAYEVENT:TRUE
SUMMARY:Sports Clips giving free hair cuts for Red Cross Blood and Platelet Donors
DESCRIPTION:All donors who present to give blood or platelets in the month of August will be given a coupon for a free hair cut from Sports Clips. Just in time for school! Remember to bring an ID. You may schedule an appointment online at www.redcrossblood.org or call 205-994-7700 or Denita Young 577-3477.
X-ALT-DESC;FMTTYPE=text/html:<span style="color: #0000ff"><span style="font-size: 16px">All donors who present to give blood or platelets in the month of August will be given a coupon for a <span style="background-color: #00ffff">free hair cut from Sports Clips</span>. Just in time for school! Remember to bring an ID. You may schedule an appointment online at <a href="http://www.redcrossblood.org">www.redcrossblood.org</a> or call 205-994-7700 or Denita Young 577-3477.</span></span><br />\n
LOCATION:American Red Cross Donor Center 700 Caldwell Trace BHM 35242
UID:e.145.4305
SEQUENCE:3
DTSTAMP:20260425T025031Z
URL:https://business.shelbychamber.org/events/details/sports-clips-giving-free-hair-cuts-for-red-cross-blood-and-platelet-donors-08-01-2012-4305
END:VEVENT

END:VCALENDAR
