BEGIN:VCALENDAR
VERSION:2.0
PRODID:-//ChamberMaster//Event Calendar 2.0//EN
METHOD:PUBLISH
X-PUBLISHED-TTL:P3D
REFRESH-INTERVAL:P3D
CALSCALE:GREGORIAN
BEGIN:VEVENT
DTSTART:20140322T140000Z
DTEND:20140329T220000Z
X-MICROSOFT-CDO-ALLDAYEVENT:FALSE
SUMMARY:Spring Break
DESCRIPTION:There is no better place to spend your Spring Break than the Birmingham Zoo! Seasonal favorites such as Predator Zone\, Children's Zoo Splash Pads\, Wildlife Shows and more are back just in time for the warmer weather. Soak up the sun and pay a visit to your favorite Zoo animals this Spring Break at the Birmingham Zoo.
X-ALT-DESC;FMTTYPE=text/html:There is no better place to spend your Spring Break than the Birmingham Zoo! Seasonal favorites such as Predator Zone\, Children&#39\;s Zoo Splash Pads\, Wildlife Shows and more are back just in time for the warmer weather. Soak up the sun and pay a visit to your favorite Zoo animals this Spring Break at the Birmingham Zoo.
LOCATION:The Birmingham Zoo
UID:e.145.5075
SEQUENCE:3
DTSTAMP:20260423T195816Z
URL:https://business.shelbychamber.org/events/details/spring-break-03-22-2014-5075
END:VEVENT

END:VCALENDAR
