BEGIN:VCALENDAR
VERSION:2.0
PRODID:-//ChamberMaster//Event Calendar 2.0//EN
METHOD:PUBLISH
X-PUBLISHED-TTL:P3D
REFRESH-INTERVAL:P3D
CALSCALE:GREGORIAN
BEGIN:VEVENT
DTSTART:20140324T133000Z
DTEND:20140328T203000Z
X-MICROSOFT-CDO-ALLDAYEVENT:FALSE
SUMMARY:Spring Break Camp
DESCRIPTION:Register your child for a Spring Break Camp for exclusive behind-the-scenes tours\, train and carousel rides\, animal demonstrations and a one-of-a-kind learning experience! This year\, Spring Break Camps will focus on various topics such as "tall tail" animal myths and African savannah animals. Don't miss out on these wild adventures-register your child today!
X-ALT-DESC;FMTTYPE=text/html:Register your child for a Spring Break Camp for exclusive behind-the-scenes tours\, train and carousel rides\, animal demonstrations and a one-of-a-kind learning experience! This year\, Spring Break Camps will focus on various topics such as &quot\;tall tail&quot\; animal myths and African savannah animals. Don&#39\;t miss out on these wild adventures-register your child today!
LOCATION:The Birmingham Zoo
UID:e.145.5077
SEQUENCE:3
DTSTAMP:20260423T195847Z
URL:https://business.shelbychamber.org/events/details/spring-break-camp-03-24-2014-5077
END:VEVENT

END:VCALENDAR
