BEGIN:VCALENDAR
VERSION:2.0
PRODID:-//ChamberMaster//Event Calendar 2.0//EN
METHOD:PUBLISH
X-PUBLISHED-TTL:P3D
REFRESH-INTERVAL:P3D
CALSCALE:GREGORIAN
BEGIN:VEVENT
DTSTART:20150402T180000Z
DTEND:20150402T200000Z
X-MICROSOFT-CDO-ALLDAYEVENT:FALSE
SUMMARY:Spring Break Movie
DESCRIPTION:Come watch a new release movie and eat popcorn with us. All ages are welcome. No registration is required.
X-ALT-DESC;FMTTYPE=text/html:Come watch a new release movie and eat popcorn with us. All ages are welcome. No registration is required.&nbsp\;
LOCATION:North Shelby Library
UID:e.145.7604
SEQUENCE:3
DTSTAMP:20260423T002932Z
URL:https://business.shelbychamber.org/events/details/spring-break-movie-04-02-2015-7604
END:VEVENT

END:VCALENDAR
