BEGIN:VCALENDAR
VERSION:2.0
PRODID:-//ChamberMaster//Event Calendar 2.0//EN
METHOD:PUBLISH
X-PUBLISHED-TTL:P3D
REFRESH-INTERVAL:P3D
CALSCALE:GREGORIAN
BEGIN:VEVENT
DTSTART:20160312T170000Z
DTEND:20160312T180000Z
X-MICROSOFT-CDO-ALLDAYEVENT:FALSE
SUMMARY:St. Patrick's Day Family Concert with Four Shillings Short
DESCRIPTION:The International music duo Four Shillings Short are coming to town for a special concert celebrating the music\, poetry and storytelling tradition of Ireland.  The husband/wife duo of Aodh Og O'Tuama from Cork\, Ireland and Christy Martin will bring the history\, legends\, and traditions of Ireland to life in a captivating concert "A Celebration of Ireland"   featuring music\, poetry & stories from the Irish Tradition. Join us for this exciting musical event. All ages welcome\, no registration required.
X-ALT-DESC;FMTTYPE=text/html:<span style="font-family:calibri light\,sans-serif">The International music duo Four Shillings Short are coming to town for a special concert celebrating the music\, poetry and storytelling tradition of Ireland.&nbsp\; The husband/wife duo of Aodh Og O&rsquo\;Tuama from Cork\, Ireland and Christy Martin will bring the history\, legends\, and traditions of Ireland to life in a captivating concert &ldquo\;A Celebration of Ireland&rdquo\; &ndash\; featuring music\, poetry &amp\; stories from the Irish Tradition. Join us for this exciting musical event. All ages welcome\, no registration required.&nbsp\;</span>
LOCATION:North Shelby Library
UID:e.145.8362
SEQUENCE:3
DTSTAMP:20260422T075232Z
URL:https://business.shelbychamber.org/events/details/st-patrick-s-day-family-concert-with-four-shillings-short-03-12-2016-8362
END:VEVENT

END:VCALENDAR
