BEGIN:VCALENDAR
VERSION:2.0
PRODID:-//ChamberMaster//Event Calendar 2.0//EN
METHOD:PUBLISH
X-PUBLISHED-TTL:P3D
REFRESH-INTERVAL:P3D
CALSCALE:GREGORIAN
BEGIN:VEVENT
DTSTART:20150504T210000Z
DTEND:20150504T230000Z
X-MICROSOFT-CDO-ALLDAYEVENT:FALSE
SUMMARY:Star Wars Day
DESCRIPTION:Fans of all ages are invited to celebrate May the Fourth in the teen department with a showing of Star Wars: A New Hope. Popcorn will be served and crafts will be available! Contact Kate at 439-5512 or nsyouth@shelbycounty-al.org for more information.
X-ALT-DESC;FMTTYPE=text/html:Fans of all ages are invited to celebrate May the Fourth in the teen department with a showing of Star Wars: A New Hope. Popcorn will be served and crafts will be available! Contact Kate at 439-5512 or <a href="mailto:nsyouth@shelbycounty-al.org">nsyouth@shelbycounty-al.org</a> for more information.
LOCATION:North Shelby Library YA Department
UID:e.145.7640
SEQUENCE:3
DTSTAMP:20260422T225932Z
URL:https://business.shelbychamber.org/events/details/star-wars-day-05-04-2015-7640
END:VEVENT

END:VCALENDAR
