BEGIN:VCALENDAR
VERSION:2.0
PRODID:-//ChamberMaster//Event Calendar 2.0//EN
METHOD:PUBLISH
X-PUBLISHED-TTL:P3D
REFRESH-INTERVAL:P3D
CALSCALE:GREGORIAN
BEGIN:VEVENT
DTSTART:20161008T150000Z
DTEND:20161008T210000Z
X-MICROSOFT-CDO-ALLDAYEVENT:FALSE
SUMMARY:Star Wars Reads Day
DESCRIPTION:Stop by the Children's Department for a drop in Star Wars craft anytime between 10 - 4.  \n\n All ages are welcome. No registration is required.  Supplies are limited. Check our website for more information.
X-ALT-DESC;FMTTYPE=text/html:<span style="font-family:calibri light\,sans-serif">Stop by the Children&rsquo\;s Department for a drop in Star Wars craft anytime between 10 - 4.&nbsp\; </span><br />\n<span style="font-family:calibri light\,sans-serif">&nbsp\;All&nbsp\;ages&nbsp\;are&nbsp\;welcome.&nbsp\;<u>No registration is required.</u>&nbsp\; Supplies are limited. Check&nbsp\;our&nbsp\;website&nbsp\;for&nbsp\;more&nbsp\;information.</span>
LOCATION:North Shelby Library 5521 Cahaba Valley Road Birmingham\, AL 35242
UID:e.145.9691
SEQUENCE:3
DTSTAMP:20260421T164931Z
URL:https://business.shelbychamber.org/events/details/star-wars-reads-day-10-08-2016-9691
END:VEVENT

END:VCALENDAR
