BEGIN:VCALENDAR
VERSION:2.0
PRODID:-//ChamberMaster//Event Calendar 2.0//EN
METHOD:PUBLISH
X-PUBLISHED-TTL:P3D
REFRESH-INTERVAL:P3D
CALSCALE:GREGORIAN
BEGIN:VEVENT
DTSTART:20151010T150000Z
DTEND:20151010T200000Z
X-MICROSOFT-CDO-ALLDAYEVENT:FALSE
SUMMARY:Star Wars Reads Day
DESCRIPTION:Stop by the Children's Department for a drop in Star Wars craft. All ages are welcome. No registration is required. Supplies are limited. Check our website for more information.
X-ALT-DESC;FMTTYPE=text/html:Stop by the Children&#39\;s Department for a drop in Star Wars craft. All ages are welcome. No registration is required. Supplies are limited. Check our website for more information.&nbsp\;
LOCATION:North Shelby Library
UID:e.145.7892
SEQUENCE:3
DTSTAMP:20260422T165711Z
URL:https://business.shelbychamber.org/events/details/star-wars-reads-day-10-10-2015-7892
END:VEVENT

END:VCALENDAR
