BEGIN:VCALENDAR
VERSION:2.0
PRODID:-//ChamberMaster//Event Calendar 2.0//EN
METHOD:PUBLISH
X-PUBLISHED-TTL:P3D
REFRESH-INTERVAL:P3D
CALSCALE:GREGORIAN
BEGIN:VEVENT
DTSTART:20150412T010000Z
DTEND:20150412T030000Z
X-MICROSOFT-CDO-ALLDAYEVENT:FALSE
SUMMARY:Starch in Petticoats
DESCRIPTION:They were tough\, resourceful\, and ready for anything! Pioneers\, homesteaders\, professional gamblers\, mail order brides ... these were some of the women who added their own particular shine to the golden horizon of the American West in the 1800s. Diary excerpts\, letters\, newspaper clippings\, and photos help tell their remarkable stories.
X-ALT-DESC;FMTTYPE=text/html:<span style="color:rgb(0\, 0\, 0)\; font-family:arial\; font-size:small\; line-height:18px">They were tough\, resourceful\, and ready for anything! Pioneers\, homesteaders\, professional gamblers\, mail order brides ... these were some of the women who added their own particular shine to the&nbsp\;golden horizon of the American West in the 1800s. Diary excerpts\, letters\, newspaper clippings\, and photos help tell their remarkable stories.</span>
LOCATION:104 Mildred Street\, Columbiana\, AL 35051
UID:e.145.7332
SEQUENCE:3
DTSTAMP:20260423T003108Z
URL:https://business.shelbychamber.org/events/details/starch-in-petticoats-04-11-2015-7332
END:VEVENT

END:VCALENDAR
