BEGIN:VCALENDAR
VERSION:2.0
PRODID:-//ChamberMaster//Event Calendar 2.0//EN
METHOD:PUBLISH
X-PUBLISHED-TTL:P3D
REFRESH-INTERVAL:P3D
CALSCALE:GREGORIAN
BEGIN:VEVENT
DTSTART;VALUE=DATE:20131026
DTEND;VALUE=DATE:20131027
TRANSP:TRANSPARENT
X-MICROSOFT-CDO-ALLDAYEVENT:TRUE
SUMMARY:State Farm Magic City Classic presented by Coca-Cola
DESCRIPTION:Come on out to Legion Field to watch Alabama State University and Alabama A&M battle it out for the championship. Tickets start as low as $20\, so purchase yours online today!
X-ALT-DESC;FMTTYPE=text/html:Come on out to Legion Field to watch Alabama State University and Alabama A&amp\;M battle it out for the championship. Tickets start as low as $20\, so purchase yours online today! 
LOCATION:Legion Field
UID:e.145.4695
SEQUENCE:3
DTSTAMP:20260424T051352Z
URL:https://business.shelbychamber.org/events/details/state-farm-magic-city-classic-presented-by-coca-cola-10-26-2013-4695
END:VEVENT

END:VCALENDAR
