BEGIN:VCALENDAR
VERSION:2.0
PRODID:-//ChamberMaster//Event Calendar 2.0//EN
METHOD:PUBLISH
X-PUBLISHED-TTL:P3D
REFRESH-INTERVAL:P3D
CALSCALE:GREGORIAN
BEGIN:VEVENT
DTSTART:20140522T223000Z
DTEND:20140523T003000Z
X-MICROSOFT-CDO-ALLDAYEVENT:FALSE
SUMMARY:State House District 43 Candidates' Forum
DESCRIPTION:State House District 43 Candidates' Forum\n\n\n\nThe Chamber's Governmental Affairs Work Group will be co-hosting a series of Candidates' Forums along with Shelby County Newspapers and the Shelby County Republican Party the month of May to provide an opportunity for Chamber members and the business community to meet and gather information from candidates running for elected office\, and ultimately make an informed decision.
X-ALT-DESC;FMTTYPE=text/html:State House District 43 Candidates&rsquo\; Forum<br />\n<br />\nThe Chamber&rsquo\;s Governmental Affairs Work Group will be co-hosting a series of Candidates&rsquo\; Forums along with Shelby County Newspapers and the Shelby County Republican Party the month of May to provide an opportunity for Chamber members and the business community to meet and gather information from candidates running for elected office\, and ultimately make an informed decision.
LOCATION:New Hope Cumberland Presbyterian Church 5521 Double Oak Lane\, Birmingham
UID:e.145.5324
SEQUENCE:3
DTSTAMP:20260423T165055Z
URL:https://business.shelbychamber.org/events/details/state-house-district-43-candidates-forum-05-22-2014-5324
END:VEVENT

END:VCALENDAR
