BEGIN:VCALENDAR
VERSION:2.0
PRODID:-//ChamberMaster//Event Calendar 2.0//EN
METHOD:PUBLISH
X-PUBLISHED-TTL:P3D
REFRESH-INTERVAL:P3D
CALSCALE:GREGORIAN
BEGIN:VEVENT
DTSTART:20140506T223000Z
DTEND:20140507T000000Z
X-MICROSOFT-CDO-ALLDAYEVENT:FALSE
SUMMARY:State House District 73 Candidates' Forum - CANCELLED
DESCRIPTION:State House District 73 Candidates' Forum - CANCELLED
X-ALT-DESC;FMTTYPE=text/html:<strong>State House District 73 Candidates&rsquo\; Forum - CANCELLED</strong>
LOCATION:
UID:e.145.5321
SEQUENCE:3
DTSTAMP:20260423T165222Z
URL:https://business.shelbychamber.org/events/details/state-house-district-73-candidates-forum-cancelled-05-06-2014-5321
END:VEVENT

END:VCALENDAR
