BEGIN:VCALENDAR
VERSION:2.0
PRODID:-//ChamberMaster//Event Calendar 2.0//EN
METHOD:PUBLISH
X-PUBLISHED-TTL:P3D
REFRESH-INTERVAL:P3D
CALSCALE:GREGORIAN
BEGIN:VEVENT
DTSTART:20140520T223000Z
DTEND:20140521T000000Z
X-MICROSOFT-CDO-ALLDAYEVENT:FALSE
SUMMARY:State Senate District 11 Candidates' Forum
DESCRIPTION:State Senate District 11 Candidates' Forum\n\n\n\nThe Chamber's Governmental Affairs Work Group will be co-hosting a series of Candidates' Forums along with Shelby County Newspapers\, South Shelby Chamber of Commerce and the Shelby County Republican Party the month of May to provide an opportunity for Chamber members and the business community to meet and gather information from candidates running for elected office\, and ultimately make an informed decision.
X-ALT-DESC;FMTTYPE=text/html:State Senate District 11 Candidates&rsquo\; Forum<br />\n<br />\nThe Chamber&rsquo\;s Governmental Affairs Work Group will be co-hosting a series of Candidates&rsquo\; Forums along with Shelby County Newspapers\, South Shelby Chamber of Commerce and the Shelby County Republican Party the month of May to provide an opportunity for Chamber members and the business community to meet and gather information from candidates running for elected office\, and ultimately make an informed decision.
LOCATION:Shelby County High School Auditorium 101 Washington St\, Columbiana
UID:e.145.5323
SEQUENCE:3
DTSTAMP:20260423T165056Z
URL:https://business.shelbychamber.org/events/details/state-senate-district-11-candidates-forum-05-20-2014-5323
END:VEVENT

END:VCALENDAR
