BEGIN:VCALENDAR
VERSION:2.0
PRODID:-//ChamberMaster//Event Calendar 2.0//EN
METHOD:PUBLISH
X-PUBLISHED-TTL:P3D
REFRESH-INTERVAL:P3D
CALSCALE:GREGORIAN
BEGIN:VEVENT
DTSTART;VALUE=DATE:20121104
DTEND;VALUE=DATE:20121105
TRANSP:TRANSPARENT
X-MICROSOFT-CDO-ALLDAYEVENT:TRUE
SUMMARY:Statewide High School Student Art Exhibit/Competition
DESCRIPTION:Statewide High School Student Art Competition/Exhibit co-hosted by Shelby County Arts Council and University of Montevallo.   Opening Reception\, Sunday\, November 4\, 2012 from 2pm-4pm at the SCAC Gallery in Columbiana\, Al.  Awards for Best of Show and Category entries will be presented at the opening.  A $500 scholarship to an exhibiting Senior will be presented at the closing reception at University of Montevallo on Saturday\, December 8\, 2012. \n\n\n\n100 pieces of artwork from students as near as Shelby County High School and as far away at Mobile to the south and Florence to the North are included in the show.\n\n\n\nExhibit sponsor are  Regions Bank\, Alabama State Council on the Arts and the National Endowment for the Arts.
X-ALT-DESC;FMTTYPE=text/html:Statewide High School Student Art Competition/Exhibit co-hosted by Shelby County Arts Council and University of Montevallo.&nbsp\;&nbsp\; Opening Reception\, Sunday\, November 4\, 2012 from 2pm-4pm at the SCAC Gallery in Columbiana\, Al.&nbsp\; Awards for Best of Show and Category entries will be presented at the opening.&nbsp\; A $500 scholarship to an exhibiting Senior will be presented at the closing reception at University of Montevallo on Saturday\, December 8\, 2012.&nbsp\;<br />\n<br />\n100 pieces of artwork from students as near as Shelby County High School and as far away at Mobile to the south and Florence to the North are included in the show.<br />\n<br />\nExhibit sponsor&nbsp\;are &nbsp\;Regions Bank\, Alabama State Council on the Arts and the National Endowment for the Arts.<br />\n
LOCATION:104 Mildred Street\, Columbiana\, AL 35051
UID:e.145.4412
SEQUENCE:3
DTSTAMP:20260424T215746Z
URL:https://business.shelbychamber.org/events/details/statewide-high-school-student-art-exhibit-competition-11-04-2012-4412
END:VEVENT

END:VCALENDAR
