BEGIN:VCALENDAR
VERSION:2.0
PRODID:-//ChamberMaster//Event Calendar 2.0//EN
METHOD:PUBLISH
X-PUBLISHED-TTL:P3D
REFRESH-INTERVAL:P3D
CALSCALE:GREGORIAN
BEGIN:VEVENT
DTSTART:20131010T170000Z
DTEND:20131011T010000Z
X-MICROSOFT-CDO-ALLDAYEVENT:FALSE
SUMMARY:Steak 'n Shake Hiring Fair
DESCRIPTION:Steak 'n Shake \n\n	HIRING FAIR THURSDAY October 10th 12p-8p \n\n	 \n\n	Hiring Fair will be held at our corporate office at 165 Inverness Plaza   Birmingham 35242 \n\n	HIRING ALL POSITIONS / ALL SHIFTS / 2 locations\n\n	\n		Alabaster at 390 Colonial Drive (next to JC Penney) now open 24/7 \n	\n		Hoover (next to the new Walgreen's at Hwy 150/31/Lorna) opening 12/5/13\n\n\n	Please do not go to the restaurants for this hiring fair. Come to 165 Inverness Plaza.\n\n	Log onto www.shagajob.com and shear What?:  Steak n Shake  Where?: Alabaster if you would like to fill out an application in advance of the Hiring Fair or you can fill out an application at the Fair.  We will conduct onsite interviews immediately to qualified applicants.  Steak 'n Shake has 10+ units planned for Central Alabama.  Come grow with us!  Great work environment - we live and manage by the golden rule!\n\n	\n\n	Call Clare at 770-331-7018 if you have any questions or concerns.  See you on Thursday at Inverness Plaza!\n\n	\n\n	COME READY TO INTERVIEW!!
X-ALT-DESC;FMTTYPE=text/html:<div style="text-align: center\;">\n	<span style="font-size:16px\;"><span style="font-family: calibri\;"><strong><span style="background: none repeat scroll 0% 0% yellow\;">Steak &lsquo\;n Shake </span></strong></span><br />\n	<span style="font-family: calibri\;"><strong><span style="background: none repeat scroll 0% 0% yellow\;">HIRING FAIR </span><span style="background: none repeat scroll 0% 0% yellow\;">THURSDAY October 10<sup>th</sup> 12p-8p</span></strong> </span><br />\n	&nbsp\;<br />\n	<span style="font-family: calibri\;"><strong><u><span style="background: none repeat scroll 0% 0% yellow\;"><span style="color: red\;">Hiring Fair will be held at our corporate office at 165 Inverness Plaza &ndash\; Birmingham 35242</span></span></u></strong> </span><br />\n	<strong><u><span style="font-family: calibri\;">HIRING ALL POSITIONS / ALL SHIFTS / 2 locations</span></u></strong></span></div>\n<ul>\n	<li style="text-align: center\;">\n		<span style="font-size:16px\;"><strong><span style="font-family: calibri\;">Alabaster at 390 Colonial Drive (next to JC Penney) now open 24/7 </span></strong></span></li>\n	<li style="text-align: center\;">\n		<span style="font-size:16px\;"><strong><span style="font-family: calibri\;">Hoover (next to the new Walgreen&rsquo\;s at Hwy 150/31/Lorna) opening 12/5/13</span></strong></span></li>\n</ul>\n<div style="text-align: center\;">\n	<span style="font-size:16px\;"><strong><span style="font-family: calibri\;">Please do not go to the restaurants for this hiring fair. Come to 165 Inverness Plaza.<br />\n	Log onto www.shagajob.com and shear What?:&nbsp\; Steak n Shake&nbsp\; Where?: Alabaster if you would like to fill out an application in advance of the Hiring Fair or you can fill out an application at the Fair.&nbsp\; We will conduct onsite interviews immediately to qualified applicants.&nbsp\; Steak &#39\;n Shake has 10+ units planned for Central Alabama.&nbsp\; Come grow with us!&nbsp\; Great work environment - we live and manage by the golden rule!<br />\n	<br />\n	Call Clare at 770-331-7018 if you have any questions or concerns.&nbsp\; See you on Thursday at Inverness Plaza!<br />\n	<br />\n	COME READY TO INTERVIEW!!</span></strong></span><br />\n	&nbsp\;</div>\n
LOCATION:Alabaster at 390 Colonial Drive (next to JC Penney) now open 24/7 to fill out an application at the store Hoover (next to the new Walgreen's at Hwy 150/31/Lorna) opening 12/5/13 -- to attend the Hiring Fair
UID:e.145.4748
SEQUENCE:3
DTSTAMP:20260424T033426Z
URL:https://business.shelbychamber.org/events/details/steak-n-shake-hiring-fair-10-10-2013-4748
END:VEVENT

END:VCALENDAR
