BEGIN:VCALENDAR
VERSION:2.0
PRODID:-//ChamberMaster//Event Calendar 2.0//EN
METHOD:PUBLISH
X-PUBLISHED-TTL:P3D
REFRESH-INTERVAL:P3D
CALSCALE:GREGORIAN
BEGIN:VEVENT
DTSTART:20110811T130000Z
DTEND:20110811T130000Z
X-MICROSOFT-CDO-ALLDAYEVENT:FALSE
SUMMARY:Steel City Connections Inaugural Meeting
DESCRIPTION:Please join the newest BNI chapter at its KICKOFF! event where we expect over 100 local business representatives.  \n\n\n\nReserve your spot now to see how BNI and word of mouth marketing builds business--even in this economy.  PLEASE REMEMBER TO BRING PLENTY OF BUSINESS CARDS.\n\n\n\nWe only allow one person per professional category to join...come see if there is a spot for you!\n\n\n\nThe event is free\, so bring your friends\, but seating is limited so please RSVP by August 8\, to reginarosehudson@hotmail.com or 205.960.5208.
X-ALT-DESC;FMTTYPE=text/html:Please join the newest BNI chapter at its KICKOFF! event where we expect over 100 local business representatives.&nbsp\;&nbsp\;<br />\n<br />\nReserve your spot now&nbsp\;to see how BNI and word of mouth marketing builds business--even in this economy.&nbsp\; PLEASE REMEMBER TO BRING PLENTY OF BUSINESS CARDS.<br />\n<br />\nWe only allow one person per professional category to join...come see if there is a spot for you!<br />\n<br />\nThe event is free\, so bring your friends\, but seating is limited so please RSVP by August 8\, to <a href="mailto:reginarosehudson@hotmail.com">reginarosehudson@hotmail.com</a> or 205.960.5208.
LOCATION:Historic Cahaba Pump Station
UID:e.145.3480
SEQUENCE:3
DTSTAMP:20260425T233232Z
URL:https://business.shelbychamber.org/events/details/steel-city-connections-inaugural-meeting-08-11-2011-3480
END:VEVENT

END:VCALENDAR
