BEGIN:VCALENDAR
VERSION:2.0
PRODID:-//ChamberMaster//Event Calendar 2.0//EN
METHOD:PUBLISH
X-PUBLISHED-TTL:P3D
REFRESH-INTERVAL:P3D
CALSCALE:GREGORIAN
BEGIN:VEVENT
DTSTART:20110825T223000Z
DTEND:20110826T003000Z
X-MICROSOFT-CDO-ALLDAYEVENT:FALSE
SUMMARY:Step Out Red & Black kickoff party and benefit
DESCRIPTION:HP Hotels and the American Diabetes Association cordially invite you to the Step Out Red & Black \n\n	Kickoff Party and Benefit\n\n	Thursday\, August 25th\n\n	2960 John Hawkins Parkway\, Birmingham\, AL 35244\n\n	From 5:30 p.m.-7:30 p.m.\n\n	 \n\n	Did you know Alabama was recently named #1 in diabetes incidence rate?    By working together we can change the future of diabetes for  our friends\, family and co-worker by joining the American Diabetes Association's Step Out: Walk to Stop Diabetes\, which is scheduled for October 8\, 2011 at Samford University.  You can LEARN MORE ABOUT THE WALK\,  SIGN UP OR MAKE A DONATION at the August 25th after hours kickoff event!\n\n	 \n\n	Come to the kickoff to learn how YOU\, YOUR FAMILY & FRIENDS or YOUR company could get involved in the fight to STOP diabetes!  No commitment necessary.. just come and enjoy a networking evening with an excellent silent auction with others in the area-- all for a great cause!\n\n	\n\n	Silent Auction lasts from 5:30-7:15 p.m.  \n\n	Great items such as:  autographed memorabilia\, vacation packages\, event tickets and more!
X-ALT-DESC;FMTTYPE=text/html:<p style="text-align: center\;">\n	<b><font face="andale mono\,times" size="4">HP Hotels and the American Diabetes Association cordially invite you to the <font size="6">Step Out Red &amp\; Black </font></font></b></p>\n<p style="text-align: center\;">\n	<b><font face="andale mono\,times" size="4"><font size="6">Kickoff Party and Benefit</font></font></b></p>\n<p align="center" class="MsoNormal" style="text-align: center\;">\n	<font color="#ff0000" face="andale mono\,times" size="4"><b><span style="font-size: 9pt\; font-family: Georgia\,serif\;">Thursday\, August 25th</span></b></font></p>\n<p align="center" class="MsoNormal" style="text-align: center\;">\n	<font color="#ff0000" face="andale mono\,times" size="4"><b><span style="font-size: 9pt\; font-family: Georgia\,serif\;">2960 John Hawkins Parkway\, Birmingham\, AL 35244</span></b></font></p>\n<p align="center" class="MsoNormal" style="text-align: center\;">\n	<font color="#ff0000" face="andale mono\,times" size="4"><b><span style="font-size: 9pt\; font-family: Georgia\,serif\;">From 5:30 p.m.-7:30 p.m.</span></b></font></p>\n<p align="center" class="MsoNormal" style="text-align: center\;">\n	&nbsp\;</p>\n<p class="MsoNormal">\n	<span style="font-size: 9pt\; font-family: Georgia\,serif\; color: black\;">Did you know Alabama was recently named #1 in diabetes incidence rate?&nbsp\;&nbsp\;<span>&nbsp\;</span></span><span style="font-size: 9pt\; font-family: Georgia\,serif\;"><span> </span>By working together we can change the future of diabetes for&nbsp\; our friends\, family and co-worker by joining the American Diabetes Association&rsquo\;s Step Out: Walk to Stop Diabetes\, which is scheduled for October 8\, 2011 at Samford University.&nbsp\; You can LEARN MORE ABOUT THE WALK\,&nbsp\; SIGN UP OR MAKE A DONATION at the August 25th after hours kickoff event!</span></p>\n<p class="MsoNormal">\n	&nbsp\;</p>\n<p class="MsoNormal">\n	<span style="font-size: 9pt\; font-family: Georgia\,serif\;">Come to the kickoff to learn how YOU\, YOUR FAMILY &amp\; FRIENDS or YOUR company could get involved in the fight to STOP diabetes!&nbsp\; No commitment necessary.. just come and enjoy a networking evening with an excellent silent auction with others in the area-- all for a great cause!</span></p>\n<p class="MsoNormal" style="text-align: center\;">\n	<br />\n	<span style="font-size: 9pt\; font-family: Georgia\,serif\;"><b><font color="#ff0000"><font size="4">Silent Auction lasts from 5:30-7:15 p.m.&nbsp\; </font></font></b></span></p>\n<p class="MsoNormal" style="text-align: center\;">\n	<span style="font-size: 9pt\; font-family: Georgia\,serif\;"><b><font color="#ff0000"><font size="4">Great items such as:&nbsp\; autographed memorabilia\, vacation packages\, event tickets and more</font>!</font></b></span></p>\n
LOCATION:Embassy Suites in Hoover- 2960 John Hawkins Parkway\, Birmingham\, AL 35244
UID:e.145.3500
SEQUENCE:3
DTSTAMP:20260425T232153Z
URL:https://business.shelbychamber.org/events/details/step-out-red-black-kickoff-party-and-benefit-08-25-2011-3500
END:VEVENT

END:VCALENDAR
