BEGIN:VCALENDAR
VERSION:2.0
PRODID:-//ChamberMaster//Event Calendar 2.0//EN
METHOD:PUBLISH
X-PUBLISHED-TTL:P3D
REFRESH-INTERVAL:P3D
CALSCALE:GREGORIAN
BEGIN:VEVENT
DTSTART:20150829T150000Z
DTEND:20150830T050000Z
X-MICROSOFT-CDO-ALLDAYEVENT:FALSE
SUMMARY:Stop The Abuse Awareness Road (S.T.A.A.R.)
DESCRIPTION:2015's STAAR is the inaugural ride benefiting Royal Family KIDS Camp 218\, who has been awarded a State of Alabama Governor's Commendation\, recognizing Royal Family KIDS Camps for their dedication in confronting child abuse and helping to change the lives of abused\, neglected and abandoned kids in the State of Alabama. This is a statewide ride from Huntsville to Gulf Shores. You can start in Huntsville or join the ride at any of the 7 stops along the I-65 route\, as riders from all over the state come together to bring awareness to the 5\,000 children in foster care in Alabama. All money raised will go directly to the kids. Royal Family KIDS camps are completely staffed by unpaid volunteers.
X-ALT-DESC;FMTTYPE=text/html:2015&#39\;s STAAR is the inaugural ride benefiting Royal Family KIDS Camp 218\, who has been awarded a State of Alabama Governor&#39\;s Commendation\, recognizing Royal Family KIDS Camps for their dedication in confronting child abuse and helping to change the lives of abused\, neglected and abandoned kids in the State of Alabama. This is a statewide ride from Huntsville to Gulf Shores. You can start in Huntsville or join the ride at any of the 7 stops along the I-65 route\, as riders from all over the state come together to bring awareness to the 5\,000 children in foster care in Alabama. All money raised will go directly to the kids. Royal Family KIDS camps are completely staffed by unpaid volunteers.
LOCATION:Rocket City Harley Davidson 15100 Alabama 20 Madison\, Alabama 35756 256-340-7333
UID:e.145.7661
SEQUENCE:3
DTSTAMP:20260422T200031Z
URL:https://business.shelbychamber.org/events/details/stop-the-abuse-awareness-road-s-t-a-a-r-08-29-2015-7661
END:VEVENT

END:VCALENDAR
