BEGIN:VCALENDAR
VERSION:2.0
PRODID:-//ChamberMaster//Event Calendar 2.0//EN
METHOD:PUBLISH
X-PUBLISHED-TTL:P3D
REFRESH-INTERVAL:P3D
CALSCALE:GREGORIAN
BEGIN:VEVENT
DTSTART:20160814T003000Z
DTEND:20160814T030000Z
X-MICROSOFT-CDO-ALLDAYEVENT:FALSE
SUMMARY:Story Teller Night
DESCRIPTION:Southerners have always had great stories to share. Vann Sykes\, Mayor Stancil Handley and Peg Hill will be sharing personal stories sure to have you smiling from ear-to-ear. It is a chance for stories to move off the front porch\, or from around the dinner table and be put on stage in front of friends and strangers alike.
X-ALT-DESC;FMTTYPE=text/html:Southerners have always had great stories to share. Vann Sykes\, Mayor Stancil Handley and Peg Hill will be sharing personal stories sure to have you smiling from ear-to-ear. It is a chance for stories to move off the front porch\, or from around the dinner table and be put on stage in front of friends and strangers alike.
LOCATION:Shelby County Arts Council\, Columbiana\, AL
UID:e.145.9640
SEQUENCE:3
DTSTAMP:20260421T234341Z
URL:https://business.shelbychamber.org/events/details/story-teller-night-08-13-2016-9640
END:VEVENT

END:VCALENDAR
