BEGIN:VCALENDAR
VERSION:2.0
PRODID:-//ChamberMaster//Event Calendar 2.0//EN
METHOD:PUBLISH
X-PUBLISHED-TTL:P3D
REFRESH-INTERVAL:P3D
CALSCALE:GREGORIAN
BEGIN:VEVENT
DTSTART:20141108T203000Z
DTEND:20141109T003000Z
X-MICROSOFT-CDO-ALLDAYEVENT:FALSE
SUMMARY:STRESSBUSTER High Noon 2014 - Women's Event
DESCRIPTION:Celebrate * Rejuvenate * Motivate. | A simple mission to heal and uplift women. High Noon "STRESSBUSTER" is an annual community wide event that celebrate - rejuvenate and motivate women in an atmosphere that is favorable to alleviate the negative effects of STRESS!!
X-ALT-DESC;FMTTYPE=text/html:Celebrate * Rejuvenate * Motivate. | A simple mission to heal and uplift women. High Noon &quot\;STRESSBUSTER&quot\; is an annual community wide event that celebrate - rejuvenate and motivate women in an atmosphere that is favorable to alleviate the negative effects of STRESS!!
LOCATION:Helena Community Center/SportsPlex
UID:e.145.6467
SEQUENCE:3
DTSTAMP:20260423T091643Z
URL:https://business.shelbychamber.org/events/details/stressbuster-high-noon-2014-women-s-event-11-08-2014-6467
END:VEVENT

END:VCALENDAR
