BEGIN:VCALENDAR
VERSION:2.0
PRODID:-//ChamberMaster//Event Calendar 2.0//EN
METHOD:PUBLISH
X-PUBLISHED-TTL:P3D
REFRESH-INTERVAL:P3D
CALSCALE:GREGORIAN
BEGIN:VEVENT
DTSTART:20111203T040000Z
DTEND:20111202T180000Z
X-MICROSOFT-CDO-ALLDAYEVENT:FALSE
SUMMARY:StUDIO OPEN-POTTERY
DESCRIPTION:STUDIO OPEN - POTTERY\n\n\n\n* Bring your own clay and glazes*.\n\n* Experienced artists are invited to work in our studio\, 5 wheels and kiln available.\n\n* Call the Arts Council to schedule.\n\n\n\n*Kiln is fired at cone 6\, additional firing fees not included.\n\n\n\nFridays\, 10am -12pm\n\n\n\nOpen studio\, No instructor\, Adults only
X-ALT-DESC;FMTTYPE=text/html:STUDIO OPEN - POTTERY<br />\n<br />\n* Bring your own clay and glazes*.<br />\n* Experienced artists are invited to work in our studio\, 5 wheels and kiln available.<br />\n* Call the Arts Council to schedule.<br />\n<br />\n*Kiln is fired at cone 6\, additional firing fees not included.<br />\n<br />\nFridays\, 10am -12pm<br />\n<br />\nOpen studio\, No instructor\, Adults only
LOCATION:Shelby County Arts Council Studio 104 Mildred St Columbiana AL 35051
UID:e.145.3000
SEQUENCE:3
DTSTAMP:20260425T152921Z
URL:https://business.shelbychamber.org/events/details/studio-open-pottery-12-02-2011-3000
END:VEVENT

END:VCALENDAR
